BEGIN:VCALENDAR
VERSION:2.0
PRODID:-//Dancing Thistle - ECPv6.15.20//NONSGML v1.0//EN
CALSCALE:GREGORIAN
METHOD:PUBLISH
X-ORIGINAL-URL:https://dancing-thistle.com
X-WR-CALDESC:Events for Dancing Thistle
REFRESH-INTERVAL;VALUE=DURATION:PT1H
X-Robots-Tag:noindex
X-PUBLISHED-TTL:PT1H
BEGIN:VTIMEZONE
TZID:America/New_York
BEGIN:DAYLIGHT
TZOFFSETFROM:-0500
TZOFFSETTO:-0400
TZNAME:EDT
DTSTART:20220313T070000
END:DAYLIGHT
BEGIN:STANDARD
TZOFFSETFROM:-0400
TZOFFSETTO:-0500
TZNAME:EST
DTSTART:20221106T060000
END:STANDARD
BEGIN:DAYLIGHT
TZOFFSETFROM:-0500
TZOFFSETTO:-0400
TZNAME:EDT
DTSTART:20230312T070000
END:DAYLIGHT
BEGIN:STANDARD
TZOFFSETFROM:-0400
TZOFFSETTO:-0500
TZNAME:EST
DTSTART:20231105T060000
END:STANDARD
BEGIN:DAYLIGHT
TZOFFSETFROM:-0500
TZOFFSETTO:-0400
TZNAME:EDT
DTSTART:20240310T070000
END:DAYLIGHT
BEGIN:STANDARD
TZOFFSETFROM:-0400
TZOFFSETTO:-0500
TZNAME:EST
DTSTART:20241103T060000
END:STANDARD
END:VTIMEZONE
BEGIN:VEVENT
DTSTART;TZID=America/New_York:20231203T143000
DTEND;TZID=America/New_York:20231203T163000
DTSTAMP:20260423T160854
CREATED:20231114T191412Z
LAST-MODIFIED:20231114T192802Z
UID:67-1701613800-1701621000@dancing-thistle.com
SUMMARY:Charleston Dance Class\, Dec 3 2023
DESCRIPTION:This is an introductory beginner level class.  It is not necessary to bring a partner\, as dancers change partners throughout class so as to include everyone.\nTypical footwear is ghillies\, which resemble a lace-up ballet slipper\, but any soft\, flat\, and flexible shoe may be worn. Women usually wear skirts or loose pants\, and men may wear kilts or pants. \nYou will make friends while developing musicality\, balance\, coordination\, and fitness all while having fun in a social setting. \nMake sure to bring drinking water to stay hydrated. \nPlease RSVP here:  https://allevents.in/north%20charleston/scottish-dance-class/80003626960200?ref=smdl
URL:https://dancing-thistle.com/event/charleston-dance-class-dec-3-2023/
LOCATION:Northwoods Park Community Center\, 8348 Greenridge Road\, North Charleston\, SC\, 29406\, United States
ATTACH;FMTTYPE=image/png:https://dancing-thistle.com/wp-content/uploads/2023/11/Charleston-class-42323.png
END:VEVENT
BEGIN:VEVENT
DTSTART;TZID=America/New_York:20231130T180000
DTEND;TZID=America/New_York:20231130T200000
DTSTAMP:20260423T160854
CREATED:20231113T195204Z
LAST-MODIFIED:20231113T195204Z
UID:49-1701367200-1701374400@dancing-thistle.com
SUMMARY:Barnwell Dance Class\, Nov 30 2023
DESCRIPTION:This is an introductory beginner level class.  It is not necessary to bring a partner\, as dancers change partners throughout class so as to include everyone.\nTypical footwear is ghillies\, which resemble a lace-up ballet slipper\, but any soft\, flat\, and flexible shoe may be worn. Women usually wear skirts or loose pants\, and men may wear kilts or pants. \nYou will make friends while developing musicality\, balance\, coordination\, and fitness all while having fun in a social setting. \nMake sure to bring drinking water to stay hydrated. \nPlease RSVP here: https://www.eventcreate.com/e/scottishdancebarnwell-nov30
URL:https://dancing-thistle.com/event/barnwell-dance-class-nov-30-2023/
LOCATION:Palmetto Innovation Center\, 218 Main Street\, Barnwell\, SC\, 29812\, United States
ATTACH;FMTTYPE=image/jpeg:https://dancing-thistle.com/wp-content/uploads/2023/11/Barnwell-class.jpg
END:VEVENT
END:VCALENDAR